0.063499999999938
0.0
0.0
-0.06350000000006
6396355.3365
5721677.8905
