0.06349999999984
0.0
0.0
-0.0634999999999
6396687.5875
5721899.975749999
